Workbook

Sheet Monthly Trends
A1: ZAVA BOTTLING - MONTHLY SALES TRENDS 2024
A3: Month | B3: Revenue | C3: Profit | D3: Orders | E3: Units Sold | F3: Avg Order Value | G3: Profit Margin % | H3: MoM Growth %
A4: January | B4: =SUMIFS('Sales Data'!$J:$J,'Sales Data'!$B:$B,">=2024-01-01",'Sales Data'!$B:$B,"<2024-02-01") -> 33369.2 | C4: =SUMIFS('Sales Data'!$L:$L,'Sales Data'!$B:$B,">=2024-01-01",'Sales Data'!$B:$B,"<2024-02-01") -> 22220.6 | D4: =COUNTIFS('Sales Data'!$B:$B,">=2024-01-01",'Sales Data'!$B:$B,"<2024-02-01") -> 22 | E4: =SUMIFS('Sales Data'!$H:$H,'Sales Data'!$B:$B,">=2024-01-01",'Sales Data'!$B:$B,"<2024-02-01") -> 16880 | F4: =IF(D4=0,0,B4/D4) -> 1516.7818 | G4: =IF(B4=0,0,C4/B4) -> 0.66590149 | H4: ="-" -> -
A5: February | B5: =SUMIFS('Sales Data'!$J:$J,'Sales Data'!$B:$B,">=2024-02-01",'Sales Data'!$B:$B,"<2024-03-01") -> 31528.9 | C5: =SUMIFS('Sales Data'!$L:$L,'Sales Data'!$B:$B,">=2024-02-01",'Sales Data'!$B:$B,"<2024-03-01") -> 20883 | D5: =COUNTIFS('Sales Data'!$B:$B,">=2024-02-01",'Sales Data'!$B:$B,"<2024-03-01") -> 22 | E5: =SUMIFS('Sales Data'!$H:$H,'Sales Data'!$B:$B,">=2024-02-01",'Sales Data'!$B:$B,"<2024-03-01") -> 16110 | F5: =IF(D5=0,0,B5/D5) -> 1433.1318 | G5: =IF(B5=0,0,C5/B5) -> 0.66234471 | H5: =IF(B4=0,0,(B5-B4)/B4) -> -0.055149659
A6: March | B6: =SUMIFS('Sales Data'!$J:$J,'Sales Data'!$B:$B,">=2024-03-01",'Sales Data'!$B:$B,"<2024-04-01") -> 33443.6 | C6: =SUMIFS('Sales Data'!$L:$L,'Sales Data'!$B:$B,">=2024-03-01",'Sales Data'!$B:$B,"<2024-04-01") -> 22394 | D6: =COUNTIFS('Sales Data'!$B:$B,">=2024-03-01",'Sales Data'!$B:$B,"<2024-04-01") -> 22 | E6: =SUMIFS('Sales Data'!$H:$H,'Sales Data'!$B:$B,">=2024-03-01",'Sales Data'!$B:$B,"<2024-04-01") -> 16540 | F6: =IF(D6=0,0,B6/D6) -> 1520.1636 | G6: =IF(B6=0,0,C6/B6) -> 0.66960495 | H6: =IF(B5=0,0,(B6-B5)/B5) -> 0.060728411
A7: April | B7: =SUMIFS('Sales Data'!$J:$J,'Sales Data'!$B:$B,">=2024-04-01",'Sales Data'!$B:$B,"<2024-05-01") -> 35031.7 | C7: =SUMIFS('Sales Data'!$L:$L,'Sales Data'!$B:$B,">=2024-04-01",'Sales Data'!$B:$B,"<2024-05-01") -> 23225.4 | D7: =COUNTIFS('Sales Data'!$B:$B,">=2024-04-01",'Sales Data'!$B:$B,"<2024-05-01") -> 22 | E7: =SUMIFS('Sales Data'!$H:$H,'Sales Data'!$B:$B,">=2024-04-01",'Sales Data'!$B:$B,"<2024-05-01") -> 15930 | F7: =IF(D7=0,0,B7/D7) -> 1592.35 | G7: =IF(B7=0,0,C7/B7) -> 0.66298238 | H7: =IF(B6=0,0,(B7-B6)/B6) -> 0.047485917
A8: May | B8: =SUMIFS('Sales Data'!$J:$J,'Sales Data'!$B:$B,">=2024-05-01",'Sales Data'!$B:$B,"<2024-06-01") -> 37767.4 | C8: =SUMIFS('Sales Data'!$L:$L,'Sales Data'!$B:$B,">=2024-05-01",'Sales Data'!$B:$B,"<2024-06-01") -> 25236.3 | D8: =COUNTIFS('Sales Data'!$B:$B,">=2024-05-01",'Sales Data'!$B:$B,"<2024-06-01") -> 22 | E8: =SUMIFS('Sales Data'!$H:$H,'Sales Data'!$B:$B,">=2024-05-01",'Sales Data'!$B:$B,"<2024-06-01") -> 18560 | F8: =IF(D8=0,0,B8/D8) -> 1716.7 | G8: =IF(B8=0,0,C8/B8) -> 0.66820327 | H8: =IF(B7=0,0,(B8-B7)/B7) -> 0.078092128
A9: June | B9: =SUMIFS('Sales Data'!$J:$J,'Sales Data'!$B:$B,">=2024-06-01",'Sales Data'!$B:$B,"<2024-07-01") -> 39987.3 | C9: =SUMIFS('Sales Data'!$L:$L,'Sales Data'!$B:$B,">=2024-06-01",'Sales Data'!$B:$B,"<2024-07-01") -> 26795.8 | D9: =COUNTIFS('Sales Data'!$B:$B,">=2024-06-01",'Sales Data'!$B:$B,"<2024-07-01") -> 21 | E9: =SUMIFS('Sales Data'!$H:$H,'Sales Data'!$B:$B,">=2024-06-01",'Sales Data'!$B:$B,"<2024-07-01") -> 19370 | F9: =IF(D9=0,0,B9/D9) -> 1904.1571 | G9: =IF(B9=0,0,C9/B9) -> 0.67010776 | H9: =IF(B8=0,0,(B9-B8)/B8) -> 0.058778206
A10: July | B10: =SUMIFS('Sales Data'!$J:$J,'Sales Data'!$B:$B,">=2024-07-01",'Sales Data'!$B:$B,"<2024-08-01") -> 37883 | C10: =SUMIFS('Sales Data'!$L:$L,'Sales Data'!$B:$B,">=2024-07-01",'Sales Data'!$B:$B,"<2024-08-01") -> 25208.1 | D10: =COUNTIFS('Sales Data'!$B:$B,">=2024-07-01",'Sales Data'!$B:$B,"<2024-08-01") -> 21 | E10: =SUMIFS('Sales Data'!$H:$H,'Sales Data'!$B:$B,">=2024-07-01",'Sales Data'!$B:$B,"<2024-08-01") -> 18800 | F10: =IF(D10=0,0,B10/D10) -> 1803.9524 | G10: =IF(B10=0,0,C10/B10) -> 0.66541985 | H10: =IF(B9=0,0,(B10-B9)/B9) -> -0.052624208
A11: August | B11: =SUMIFS('Sales Data'!$J:$J,'Sales Data'!$B:$B,">=2024-08-01",'Sales Data'!$B:$B,"<2024-09-01") -> 42387.4 | C11: =SUMIFS('Sales Data'!$L:$L,'Sales Data'!$B:$B,">=2024-08-01",'Sales Data'!$B:$B,"<2024-09-01") -> 28156.5 | D11: =COUNTIFS('Sales Data'!$B:$B,">=2024-08-01",'Sales Data'!$B:$B,"<2024-09-01") -> 21 | E11: =SUMIFS('Sales Data'!$H:$H,'Sales Data'!$B:$B,">=2024-08-01",'Sales Data'!$B:$B,"<2024-09-01") -> 20460 | F11: =IF(D11=0,0,B11/D11) -> 2018.4476 | G11: =IF(B11=0,0,C11/B11) -> 0.6642658 | H11: =IF(B10=0,0,(B11-B10)/B10) -> 0.11890294
A12: September | B12: =SUMIFS('Sales Data'!$J:$J,'Sales Data'!$B:$B,">=2024-09-01",'Sales Data'!$B:$B,"<2024-10-01") -> 35181 | C12: =SUMIFS('Sales Data'!$L:$L,'Sales Data'!$B:$B,">=2024-09-01",'Sales Data'!$B:$B,"<2024-10-01") -> 23607.1 | D12: =COUNTIFS('Sales Data'!$B:$B,">=2024-09-01",'Sales Data'!$B:$B,"<2024-10-01") -> 21 | E12: =SUMIFS('Sales Data'!$H:$H,'Sales Data'!$B:$B,">=2024-09-01",'Sales Data'!$B:$B,"<2024-10-01") -> 17000 | F12: =IF(D12=0,0,B12/D12) -> 1675.2857 | G12: =IF(B12=0,0,C12/B12) -> 0.67101845 | H12: =IF(B11=0,0,(B12-B11)/B11) -> -0.17001279
A13: October | B13: =SUMIFS('Sales Data'!$J:$J,'Sales Data'!$B:$B,">=2024-10-01",'Sales Data'!$B:$B,"<2024-11-01") -> 42542.3 | C13: =SUMIFS('Sales Data'!$L:$L,'Sales Data'!$B:$B,">=2024-10-01",'Sales Data'!$B:$B,"<2024-11-01") -> 28284.9 | D13: =COUNTIFS('Sales Data'!$B:$B,">=2024-10-01",'Sales Data'!$B:$B,"<2024-11-01") -> 22 | E13: =SUMIFS('Sales Data'!$H:$H,'Sales Data'!$B:$B,">=2024-10-01",'Sales Data'!$B:$B,"<2024-11-01") -> 19970 | F13: =IF(D13=0,0,B13/D13) -> 1933.7409 | G13: =IF(B13=0,0,C13/B13) -> 0.66486532 | H13: =IF(B12=0,0,(B13-B12)/B12) -> 0.20924078
A14: November | B14: =SUMIFS('Sales Data'!$J:$J,'Sales Data'!$B:$B,">=2024-11-01",'Sales Data'!$B:$B,"<2024-12-01") -> 36225 | C14: =SUMIFS('Sales Data'!$L:$L,'Sales Data'!$B:$B,">=2024-11-01",'Sales Data'!$B:$B,"<2024-12-01") -> 24164.4 | D14: =COUNTIFS('Sales Data'!$B:$B,">=2024-11-01",'Sales Data'!$B:$B,"<2024-12-01") -> 22 | E14: =SUMIFS('Sales Data'!$H:$H,'Sales Data'!$B:$B,">=2024-11-01",'Sales Data'!$B:$B,"<2024-12-01") -> 16100 | F14: =IF(D14=0,0,B14/D14) -> 1646.5909 | G14: =IF(B14=0,0,C14/B14) -> 0.66706418 | H14: =IF(B13=0,0,(B14-B13)/B13) -> -0.14849456
A15: December | B15: =SUMIFS('Sales Data'!$J:$J,'Sales Data'!$B:$B,">=2024-12-01",'Sales Data'!$B:$B,"<2025-01-01") -> 60013.8 | C15: =SUMIFS('Sales Data'!$L:$L,'Sales Data'!$B:$B,">=2024-12-01",'Sales Data'!$B:$B,"<2025-01-01") -> 40166.5 | D15: =COUNTIFS('Sales Data'!$B:$B,">=2024-12-01",'Sales Data'!$B:$B,"<2025-01-01") -> 25 | E15: =SUMIFS('Sales Data'!$H:$H,'Sales Data'!$B:$B,">=2024-12-01",'Sales Data'!$B:$B,"<2025-01-01") -> 28420 | F15: =IF(D15=0,0,B15/D15) -> 2400.552 | G15: =IF(B15=0,0,C15/B15) -> 0.66928773 | H15: =IF(B14=0,0,(B15-B14)/B14) -> 0.65669565
A16: TOTAL/AVG | B16: =SUM(B4:B15) -> 465360.6 | C16: =SUM(C4:C15) -> 310342.6 | D16: =SUM(D4:D15) -> 263 | E16: =SUM(E4:E15) -> 224140 | F16: =AVERAGE(F4:F15) -> 1763.4878 | G16: =C16/B16 -> 0.66688628 | H16: =AVERAGE(H5:H15) -> 0.073058439
A18: QUARTERLY SUMMARY
A19: Quarter | B19: Revenue | C19: Profit | D19: Orders | E19: Profit Margin | F19: QoQ Growth
A20: Q1 | B20: =SUM(B4:B6) -> 98341.7 | C20: =SUM(C4:C6) -> 65497.6 | D20: =SUM(D4:D6) -> 66 | E20: =IF(B20=0,0,C20/B20) -> 0.66602062 | F20: -
A21: Q2 | B21: =SUM(B7:B9) -> 112786.4 | C21: =SUM(C7:C9) -> 75257.5 | D21: =SUM(D7:D9) -> 65 | E21: =IF(B21=0,0,C21/B21) -> 0.66725687 | F21: =IF(B20=0,0,(B21-B20)/B20) -> 0.14688276
A22: Q3 | B22: =SUM(B10:B12) -> 115451.4 | C22: =SUM(C10:C12) -> 76971.7 | D22: =SUM(D10:D12) -> 63 | E22: =IF(B22=0,0,C22/B22) -> 0.66670218 | F22: =IF(B21=0,0,(B22-B21)/B21) -> 0.023628735
A23: Q4 | B23: =SUM(B13:B15) -> 138781.1 | C23: =SUM(C13:C15) -> 92615.8 | D23: =SUM(D13:D15) -> 69 | E23: =IF(B23=0,0,C23/B23) -> 0.66735168 | F23: =IF(B22=0,0,(B23-B22)/B22) -> 0.20207377
A25: CATEGORY PERFORMANCE ANALYSIS
A26: Category | B26: Revenue | C26: Profit | D26: Units Sold | E26: Avg Unit Price | F26: Profit Margin | G26: % of Total Revenue
A27: Water | B27: =SUMIF('Sales Data'!G:G,"Water",'Sales Data'!J:J) -> 69851.6 | C27: =SUMIF('Sales Data'!G:G,"Water",'Sales Data'!L:L) -> 45047.3 | D27: =SUMIF('Sales Data'!G:G,"Water",'Sales Data'!H:H) -> 41940 | E27: =IF(D27=0,0,B27/D27) -> 1.6655126 | F27: =IF(B27=0,0,C27/B27) -> 0.64490005 | G27: =IF(SUM(B27:B33)=0,0,B27/SUM(B27:B33)) -> 0.15010209
A28: Sparkling | B28: =SUMIF('Sales Data'!G:G,"Sparkling",'Sales Data'!J:J) -> 31510.5 | C28: =SUMIF('Sales Data'!G:G,"Sparkling",'Sales Data'!L:L) -> 20419 | D28: =SUMIF('Sales Data'!G:G,"Sparkling",'Sales Data'!H:H) -> 16450 | E28: =IF(D28=0,0,B28/D28) -> 1.9155319 | F28: =IF(B28=0,0,C28/B28) -> 0.64800622 | G28: =IF(SUM($B$27:$B$33)=0,0,B28/SUM($B$27:$B$33)) -> 0.067712007
A29: Soft Drinks | B29: =SUMIF('Sales Data'!G:G,"Soft Drinks",'Sales Data'!J:J) -> 150954.6 | C29: =SUMIF('Sales Data'!G:G,"Soft Drinks",'Sales Data'!L:L) -> 101880.6 | D29: =SUMIF('Sales Data'!G:G,"Soft Drinks",'Sales Data'!H:H) -> 89640 | E29: =IF(D29=0,0,B29/D29) -> 1.6840094 | F29: =IF(B29=0,0,C29/B29) -> 0.67490888 | G29: =IF(SUM($B$27:$B$33)=0,0,B29/SUM($B$27:$B$33)) -> 0.324382
A30: Energy Drinks | B30: =SUMIF('Sales Data'!G:G,"Energy Drinks",'Sales Data'!J:J) -> 75958.4 | C30: =SUMIF('Sales Data'!G:G,"Energy Drinks",'Sales Data'!L:L) -> 51705.4 | D30: =SUMIF('Sales Data'!G:G,"Energy Drinks",'Sales Data'!H:H) -> 22160 | E30: =IF(D30=0,0,B30/D30) -> 3.4277256 | F30: =IF(B30=0,0,C30/B30) -> 0.68070681 | G30: =IF(SUM($B$27:$B$33)=0,0,B30/SUM($B$27:$B$33)) -> 0.16322482
A31: Sports Drinks | B31: =SUMIF('Sales Data'!G:G,"Sports Drinks",'Sales Data'!J:J) -> 100568.9 | C31: =SUMIF('Sales Data'!G:G,"Sports Drinks",'Sales Data'!L:L) -> 67440 | D31: =SUMIF('Sales Data'!G:G,"Sports Drinks",'Sales Data'!H:H) -> 34610 | E31: =IF(D31=0,0,B31/D31) -> 2.9057758 | F31: =IF(B31=0,0,C31/B31) -> 0.67058504 | G31: =IF(SUM($B$27:$B$33)=0,0,B31/SUM($B$27:$B$33)) -> 0.21610961
A32: Tea | B32: =SUMIF('Sales Data'!G:G,"Tea",'Sales Data'!J:J) -> 17631.5 | C32: =SUMIF('Sales Data'!G:G,"Tea",'Sales Data'!L:L) -> 11883.8 | D32: =SUMIF('Sales Data'!G:G,"Tea",'Sales Data'!H:H) -> 9850 | E32: =IF(D32=0,0,B32/D32) -> 1.79 | F32: =IF(B32=0,0,C32/B32) -> 0.67400959 | G32: =IF(SUM($B$27:$B$33)=0,0,B32/SUM($B$27:$B$33)) -> 0.037887823
A33: Juices | B33: =SUMIF('Sales Data'!G:G,"Juices",'Sales Data'!J:J) -> 18885.1 | C33: =SUMIF('Sales Data'!G:G,"Juices",'Sales Data'!L:L) -> 11966.5 | D33: =SUMIF('Sales Data'!G:G,"Juices",'Sales Data'!H:H) -> 9490 | E33: =IF(D33=0,0,B33/D33) -> 1.99 | F33: =IF(B33=0,0,C33/B33) -> 0.63364769 | G33: =IF(SUM($B$27:$B$33)=0,0,B33/SUM($B$27:$B$33)) -> 0.040581648
A34: TOTAL | B34: =SUM(B27:B33) -> 465360.6 | C34: =SUM(C27:C33) -> 310342.6 | D34: =SUM(D27:D33) -> 224140 | E34: =IF(D34=0,0,B34/D34) -> 2.0762051 | F34: =IF(B34=0,0,C34/B34) -> 0.66688628 | G34: 1

Sheet Sales Data
A1: Order ID | B1: Order Date | C1: Customer ID | D1: Customer Name | E1: Product ID | F1: Product Name | G1: Category | H1: Quantity | I1: Unit Price ($) | J1: Total Revenue ($) | K1: Cost ($) | L1: Profit ($) | M1: Sales Rep | N1: Region | O1: Payment Status
A2: ORD001 | B2: 45296 | C2: C001 | D2: Metro Supermarkets | E2: P001 | F2: Zava Spring Water | G2: Water | H2: 500 | I2: 1.29 | J2: =H2*I2 -> 645 | K2: =H2*VLOOKUP(E2,'Product Catalog'!A:F,6,FALSE) -> 225 | L2: =J2-K2 -> 420 | M2: Sarah Johnson | N2: North | O2: Paid
A3: ORD002 | B3: 45299 | C3: C003 | D3: FreshMart Groceries | E3: P006 | F3: Zava Cola Classic | G3: Soft Drinks | H3: 800 | I3: 1.19 | J3: =H3*I3 -> 952 | K3: =H3*VLOOKUP(E3,'Product Catalog'!A:F,6,FALSE) -> 304 | L3: =J3-K3 -> 648 | M3: Mike Chen | N3: South | O3: Paid
A4: ORD003 | B4: 45301 | C4: C005 | D4: Sports Arena Concessions | E4: P015 | F4: Zava Sports Hydrate | G4: Sports Drinks | H4: 1200 | I4: 2.49 | J4: =H4*I4 -> 2988 | K4: =H4*VLOOKUP(E4,'Product Catalog'!A:F,6,FALSE) -> 984 | L4: =J4-K4 -> 2004 | M4: Tom Martinez | N4: West | O4: Paid
A5: ORD004 | B5: 45303 | C5: C007 | D5: City Hospital Cafeteria | E5: P002 | F5: Zava Spring Water | G5: Water | H5: 600 | I5: 1.99 | J5: =H5*I5 -> 1194 | K5: =H5*VLOOKUP(E5,'Product Catalog'!A:F,6,FALSE) -> 432 | L5: =J5-K5 -> 762 | M5: Lisa Wang | N5: East | O5: Paid
A6: ORD005 | B6: 45306 | C6: C002 | D6: QuickStop Convenience | E6: P013 | F6: Zava Energy Rush | G6: Energy Drinks | H6: 300 | I6: 2.99 | J6: =H6*I6 -> 897 | K6: =H6*VLOOKUP(E6,'Product Catalog'!A:F,6,FALSE) -> 285 | L6: =J6-K6 -> 612 | M6: Sarah Johnson | N6: North | O6: Paid
A7: ORD006 | B7: 45309 | C7: C010 | D7: Beach Resort Hotels | E7: P004 | F7: Zava Sparkling Water | G7: Sparkling | H7: 900 | I7: 1.49 | J7: =H7*I7 -> 1341 | K7: =H7*VLOOKUP(E7,'Product Catalog'!A:F,6,FALSE) -> 468 | L7: =J7-K7 -> 873 | M7: Mike Chen | N7: South | O7: Paid
A8: ORD007 | B8: 45311 | C8: C012 | D8: Movie Theater Chain | E8: P008 | F8: Zava Cola Classic | G8: Soft Drinks | H8: 1500 | I8: 2.79 | J8: =H8*I8 -> 4185 | K8: =H8*VLOOKUP(E8,'Product Catalog'!A:F,6,FALSE) -> 1380 | L8: =J8-K8 -> 2805 | M8: Tom Martinez | N8: West | O8: Paid
A9: ORD008 | B9: 45313 | C9: C015 | D9: Airport Retail Group | E9: P014 | F9: Zava Energy Rush | G9: Energy Drinks | H9: 450 | I9: 3.99 | J9: =H9*I9 -> 1795.5 | K9: =H9*VLOOKUP(E9,'Product Catalog'!A:F,6,FALSE) -> 576 | L9: =J9-K9 -> 1219.5 | M9: Lisa Wang | N9: East | O9: Paid
A10: ORD009 | B10: 45316 | C10: C017 | D10: Fast Food Distributors | E10: P007 | F10: Zava Cola Classic | G10: Soft Drinks | H10: 2000 | I10: 1.49 | J10: =H10*I10 -> 2980 | K10: =H10*VLOOKUP(E10,'Product Catalog'!A:F,6,FALSE) -> 960 | L10: =J10-K10 -> 2020 | M10: Sarah Johnson | N10: North | O10: Paid
A11: ORD010 | B11: 45319 | C11: C018 | D11: Theme Park Services | E11: P009 | F11: Zava Orange Burst | G11: Soft Drinks | H11: 1800 | I11: 1.19 | J11: =H11*I11 -> 2142 | K11: =H11*VLOOKUP(E11,'Product Catalog'!A:F,6,FALSE) -> 702 | L11: =J11-K11 -> 1440 | M11: Mike Chen | N11: South | O11: Paid
A12: ORD011 | B12: 45324 | C12: C004 | D12: Campus Dining Services | E12: P017 | F12: Zava Green Tea | G12: Tea | H12: 400 | I12: 1.79 | J12: =H12*I12 -> 716 | K12: =H12*VLOOKUP(E12,'Product Catalog'!A:F,6,FALSE) -> 232 | L12: =J12-K12 -> 484 | M12: Lisa Wang | N12: East | O12: Paid
A13: ORD012 | B13: 45327 | C13: C006 | D13: HealthClub Network | E13: P015 | F13: Zava Sports Hydrate | G13: Sports Drinks | H13: 750 | I13: 2.49 | J13: =H13*I13 -> 1867.5 | K13: =H13*VLOOKUP(E13,'Product Catalog'!A:F,6,FALSE) -> 615 | L13: =J13-K13 -> 1252.5 | M13: Tom Martinez | N13: West | O13: Paid
... A51: ORD050 | B51: 45437 | C51: C018 | D51: Theme Park Services | E51: P015 | F51: Zava Sports Hydrate | G51: Sports Drinks | H51: 1250 | I51: 2.49 | J51: =H51*I51 -> 3112.5 | K51: =H51*VLOOKUP(E51,'Product Catalog'!A:F,6,FALSE) -> 1025 | L51: =J51-K51 -> 2087.5 | M51: Mike Chen | N51: South | O51: Paid
A52: ORD051 | B52: 45445 | C52: C006 | D52: HealthClub Network | E52: P013 | F52: Zava Energy Rush | G52: Energy Drinks | H52: 720 | I52: 2.99 | J52: 2152.8 | K52: 684 | L52: 1468.8 | M52: Tom Martinez | N52: West | O52: Paid
A53: ORD052 | B53: 45448 | C53: C001 | D53: Metro Supermarkets | E53: P001 | F53: Zava Spring Water | G53: Water | H53: 1200 | I53: 1.29 | J53: 1548 | K53: 540 | L53: 1008 | M53: Sarah Johnson | N53: North | O53: Paid
A54: ORD053 | B54: 45451 | C54: C003 | D54: FreshMart Groceries | E54: P008 | F54: Zava Cola Classic | G54: Soft Drinks | H54: 1100 | I54: 2.79 | J54: 3069 | K54: 1012 | L54: 2057 | M54: Mike Chen | N54: South | O54: Paid
A55: ORD054 | B55: 45455 | C55: C007 | D55: City Hospital Cafeteria | E55: P019 | F55: Zava Juice Apple | G55: Juices | H55: 550 | I55: 1.99 | J55: 1094.5 | K55: 396 | L55: 698.5 | M55: Lisa Wang | N55: East | O55: Paid
A56: ORD055 | B56: 45458 | C56: C012 | D56: Movie Theater Chain | E56: P006 | F56: Zava Cola Classic | G56: Soft Drinks | H56: 1800 | I56: 1.19 | J56: 2142 | K56: 684 | L56: 1458 | M56: Tom Martinez | N56: West | O56: Paid
A57: ORD056 | B57: 45461 | C57: C002 | D57: QuickStop Convenience | E57: P004 | F57: Zava Sparkling Water | G57: Sparkling | H57: 480 | I57: 1.49 | J57: 715.2 | K57: 249.6 | L57: 465.6 | M57: Sarah Johnson | N57: North | O57: Paid
A58: ORD057 | B58: 45465 | C58: C010 | D58: Beach Resort Hotels | E58: P015 | F58: Zava Sports Hydrate | G58: Sports Drinks | H58: 980 | I58: 2.49 | J58: 2440.2 | K58: 803.6 | L58: 1636.6 | M58: Mike Chen | N58: South | O58: Paid
A59: ORD058 | B59: 45468 | C59: C015 | D59: Airport Retail Group | E59: P017 | F59: Zava Green Tea | G59: Tea | H59: 620 | I59: 1.79 | J59: 1109.8 | K59: 359.6 | L59: 750.2 | M59: Lisa Wang | N59: East | O59: Paid
A60: ORD059 | B60: 45471 | C60: C020 | D60: Casino Resort Group | E60: P014 | F60: Zava Energy Rush | G60: Energy Drinks | H60: 650 | I60: 3.99 | J60: 2593.5 | K60: 832 | L60: 1761.5 | M60: Tom Martinez | N60: West | O60: Pending
A61: ORD060 | B61: 45475 | C61: C017 | D61: Fast Food Distributors | E61: P007 | F61: Zava Cola Classic | G61: Soft Drinks | H61: 2200 | I61: 1.49 | J61: 3278 | K61: 1056 | L61: 2222 | M61: Sarah Johnson | N61: North | O61: Paid
A62: ORD061 | B62: 45478 | C62: C018 | D62: Theme Park Services | E62: P016 | F62: Zava Sports Hydrate | G62: Sports Drinks | H62: 1400 | I62: 3.49 | J62: 4886 | K62: 1610 | L62: 3276 | M62: Mike Chen | N62: South | O62: Paid
A63: ORD062 | B63: 45481 | C63: C004 | D63: Campus Dining Services | E63: P002 | F63: Zava Spring Water | G63: Water | H63: 850 | I63: 1.99 | J63: 1691.5 | K63: 612 | L63: 1079.5 | M63: Lisa Wang | N63: East | O63: Paid
... A120: ORD119 | B120: 45654 | C120: C009 | D120: Corner Store Chain | E120: P011 | F120: Zava Lemon Fizz | G120: Soft Drinks | H120: 920 | I120: 1.19 | J120: 1094.8 | K120: 340.4 | L120: 754.4 | M120: Sarah Johnson | N120: North | O120: Paid
A121: ORD120 | B121: 45294 | C121: C004 | D121: Campus Dining Services | E121: P004 | F121: Zava Sparkling Water | G121: Sparkling | H121: 650 | I121: 1.49 | J121: =H121*I121 -> 968.5 | K121: =H121*0.52 -> 338 | L121: =J121-K121 -> 630.5 | M121: Lisa Wang | N121: East | O121: Paid
A122: ORD121 | B122: 45297 | C122: C006 | D122: HealthClub Network | E122: P016 | F122: Zava Sports Hydrate | G122: Sports Drinks | H122: 480 | I122: 3.49 | J122: =H122*I122 -> 1675.2 | K122: =H122*1.15 -> 552 | L122: =J122-K122 -> 1123.2 | M122: Tom Martinez | N122: West | O122: Paid
A123: ORD122 | B123: 45300 | C123: C008 | D123: University Food Services | E123: P007 | F123: Zava Cola Classic | G123: Soft Drinks | H123: 720 | I123: 1.49 | J123: =H123*I123 -> 1072.8 | K123: =H123*0.48 -> 345.6 | L123: =J123-K123 -> 727.2 | M123: Mike Chen | N123: South | O123: Paid
A124: ORD123 | B124: 45302 | C124: C009 | D124: Corner Store Chain | E124: P019 | F124: Zava Juice Apple | G124: Juices | H124: 380 | I124: 1.99 | J124: =H124*I124 -> 756.2 | K124: =H124*0.72 -> 273.6 | L124: =J124-K124 -> 482.6 | M124: Sarah Johnson | N124: North | O124: Paid
A125: ORD124 | B125: 45305 | C125: C011 | D125: Downtown Deli Group | E125: P005 | F125: Zava Sparkling Water | G125: Sparkling | H125: 520 | I125: 2.29 | J125: =H125*I125 -> 1190.8 | K125: =H125*0.81 -> 421.2 | L125: =J125-K125 -> 769.6 | M125: Lisa Wang | N125: East | O125: Paid
A126: ORD125 | B126: 45307 | C126: C013 | D126: Office Building Vendors | E126: P017 | F126: Zava Green Tea | G126: Tea | H126: 290 | I126: 1.79 | J126: =H126*I126 -> 519.1 | K126: =H126*0.58 -> 168.2 | L126: =J126-K126 -> 350.9 | M126: Sarah Johnson | N126: North | O126: Paid
A127: ORD126 | B127: 45310 | C127: C014 | D127: School District 45 | E127: P001 | F127: Zava Spring Water | G127: Water | H127: 1100 | I127: 1.29 | J127: =H127*I127 -> 1419 | K127: =H127*0.45 -> 495 | L127: =J127-K127 -> 924 | M127: Mike Chen | N127: South | O127: Paid
A128: ORD127 | B128: 45312 | C128: C016 | D128: Gym Franchise Co | E128: P015 | F128: Zava Sports Hydrate | G128: Sports Drinks | H128: 750 | I128: 2.49 | J128: =H128*I128 -> 1867.5 | K128: =H128*0.82 -> 615 | L128: =J128-K128 -> 1252.5 | M128: Tom Martinez | N128: West | O128: Paid
A129: ORD128 | B129: 45315 | C129: C019 | D129: Hospital Network East | E129: P003 | F129: Zava Spring Water | G129: Water | H129: 680 | I129: 2.49 | J129: =H129*I129 -> 1693.2 | K129: =H129*0.89 -> 605.2 | L129: =J129-K129 -> 1088 | M129: Lisa Wang | N129: East | O129: Paid
A130: ORD129 | B130: 45318 | C130: C020 | D130: Casino Resort Group | E130: P014 | F130: Zava Energy Rush | G130: Energy Drinks | H130: 420 | I130: 3.99 | J130: =H130*I130 -> 1675.8 | K130: =H130*1.28 -> 537.6 | L130: =J130-K130 -> 1138.2 | M130: Tom Martinez | N130: West | O130: Paid
A131: ORD130 | B131: 45323 | C131: C001 | D131: Metro Supermarkets | E131: P009 | F131: Zava Orange Burst | G131: Soft Drinks | H131: 850 | I131: 1.19 | J131: =H131*I131 -> 1011.5 | K131: =H131*0.39 -> 331.5 | L131: =J131-K131 -> 680 | M131: Sarah Johnson | N131: North | O131: Paid
A132: ORD131 | B132: 45325 | C132: C005 | D132: Sports Arena Concessions | E132: P013 | F132: Zava Energy Rush | G132: Energy Drinks | H132: 620 | I132: 2.99 | J132: =H132*I132 -> 1853.8 | K132: =H132*0.95 -> 589 | L132: =J132-K132 -> 1264.8 | M132: Tom Martinez | N132: West | O132: Paid
A133: ORD132 | B133: 45328 | C133: C007 | D133: City Hospital Cafeteria | E133: P020 | F133: Zava Juice Orange | G133: Juices | H133: 440 | I133: 1.99 | J133: =H133*I133 -> 875.6 | K133: =H133*0.74 -> 325.6 | L133: =J133-K133 -> 550 | M133: Lisa Wang | N133: East | O133: Paid
...

Sheet Product Catalog
A1: Product ID | B1: Product Name | C1: Category | D1: Size (L) | E1: Unit Price ($) | F1: Cost ($) | G1: Margin % | H1: Status
A2: P001 | B2: Zava Spring Water | C2: Water | D2: 0.5 | E2: 1.29 | F2: 0.45 | G2: =(E2-F2)/E2 -> 0.65116279 | H2: Active
A3: P002 | B3: Zava Spring Water | C3: Water | D3: 1 | E3: 1.99 | F3: 0.72 | G3: =(E3-F3)/E3 -> 0.63819095 | H3: Active
A4: P003 | B4: Zava Spring Water | C4: Water | D4: 1.5 | E4: 2.49 | F4: 0.89 | G4: =(E4-F4)/E4 -> 0.64257028 | H4: Active
A5: P004 | B5: Zava Sparkling Water | C5: Sparkling | D5: 0.5 | E5: 1.49 | F5: 0.52 | G5: =(E5-F5)/E5 -> 0.65100671 | H5: Active
A6: P005 | B6: Zava Sparkling Water | C6: Sparkling | D6: 1 | E6: 2.29 | F6: 0.81 | G6: =(E6-F6)/E6 -> 0.64628821 | H6: Active
A7: P006 | B7: Zava Cola Classic | C7: Soft Drinks | D7: 0.33 | E7: 1.19 | F7: 0.38 | G7: =(E7-F7)/E7 -> 0.68067227 | H7: Active
A8: P007 | B8: Zava Cola Classic | C8: Soft Drinks | D8: 0.5 | E8: 1.49 | F8: 0.48 | G8: =(E8-F8)/E8 -> 0.67785235 | H8: Active
A9: P008 | B9: Zava Cola Classic | C9: Soft Drinks | D9: 1.5 | E9: 2.79 | F9: 0.92 | G9: =(E9-F9)/E9 -> 0.6702509 | H9: Active
A10: P009 | B10: Zava Orange Burst | C10: Soft Drinks | D10: 0.33 | E10: 1.19 | F10: 0.39 | G10: =(E10-F10)/E10 -> 0.67226891 | H10: Active
A11: P010 | B11: Zava Orange Burst | C11: Soft Drinks | D11: 0.5 | E11: 1.49 | F11: 0.49 | G11: =(E11-F11)/E11 -> 0.67114094 | H11: Active
A12: P011 | B12: Zava Lemon Fizz | C12: Soft Drinks | D12: 0.33 | E12: 1.19 | F12: 0.37 | G12: =(E12-F12)/E12 -> 0.68907563 | H12: Active
A13: P012 | B13: Zava Lemon Fizz | C13: Soft Drinks | D13: 0.5 | E13: 1.49 | F13: 0.47 | G13: =(E13-F13)/E13 -> 0.68456376 | H13: Active
... A21: P020 | B21: Zava Juice Orange | C21: Juices | D21: 0.33 | E21: 1.99 | F21: 0.74 | G21: =(E21-F21)/E21 -> 0.6281407 | H21: Active

Sheet Customers
A1: Customer ID | B1: Company Name | C1: Contact Name | D1: Region | E1: City | F1: Customer Type | G1: Credit Limit ($) | H1: Payment Terms | I1: Account Status | J1: Assigned Rep
A2: C001 | B2: Metro Supermarkets | C2: John Anderson | D2: North | E2: Chicago | F2: Retail Chain | G2: 50000 | H2: Net 30 | I2: Active | J2: Sarah Johnson
A3: C002 | B3: QuickStop Convenience | C3: Maria Garcia | D3: North | E3: Detroit | F3: Convenience | G3: 15000 | H3: Net 15 | I3: Active | J3: Sarah Johnson
A4: C003 | B4: FreshMart Groceries | C4: David Lee | D4: South | E4: Houston | F4: Retail Chain | G4: 75000 | H4: Net 30 | I4: Active | J4: Mike Chen
A5: C004 | B5: Campus Dining Services | C5: Emily White | D5: East | E5: Boston | F5: Institutional | G5: 30000 | H5: Net 30 | I5: Active | J5: Lisa Wang
A6: C005 | B6: Sports Arena Concessions | C6: Robert Brown | D6: West | E6: Los Angeles | F6: Entertainment | G6: 45000 | H6: Net 15 | I6: Active | J6: Tom Martinez
A7: C006 | B7: HealthClub Network | C7: Jennifer Davis | D7: West | E7: San Francisco | F7: Fitness | G7: 25000 | H7: Net 30 | I7: Active | J7: Tom Martinez
A8: C007 | B8: City Hospital Cafeteria | C8: Michael Wilson | D8: East | E8: New York | F8: Healthcare | G8: 35000 | H8: Net 45 | I8: Active | J8: Lisa Wang
A9: C008 | B9: University Food Services | C9: Amanda Taylor | D9: South | E9: Miami | F9: Institutional | G9: 60000 | H9: Net 30 | I9: Active | J9: Mike Chen
A10: C009 | B10: Corner Store Chain | C10: James Miller | D10: North | E10: Minneapolis | F10: Convenience | G10: 20000 | H10: Net 15 | I10: Active | J10: Sarah Johnson
A11: C010 | B11: Beach Resort Hotels | C11: Susan Clark | D11: South | E11: Orlando | F11: Hospitality | G11: 55000 | H11: Net 30 | I11: Active | J11: Mike Chen
A12: C011 | B12: Downtown Deli Group | C12: Chris Martin | D12: East | E12: Philadelphia | F12: Restaurant | G12: 18000 | H12: Net 15 | I12: Active | J12: Lisa Wang
A13: C012 | B13: Movie Theater Chain | C13: Karen Lewis | D13: West | E13: Seattle | F13: Entertainment | G13: 40000 | H13: Net 30 | I13: Active | J13: Tom Martinez
... A111: C110 | B111: Northern Resort Collection | C111: Buyer | D111: North | E111: Traverse City | F111: Hospitality | G111: 56000 | H111: Net 30 | I111: Active | J111: Sarah Johnson

Sheet Sales Reps
A1: Rep ID | B1: Rep Name | C1: Email | D1: Region | E1: Territory | F1: Hire Date | G1: Base Salary ($) | H1: Commission Rate % | I1: Phone | J1: Manager
A2: SR001 | B2: Sarah Johnson | C2: sjohnson@zava.com | D2: North | E2: Great Lakes | F2: 43539 | G2: 65000 | H2: 5 | I2: 312-555-0101 | J2: David Thompson
A3: SR002 | B3: Mike Chen | C3: mchen@zava.com | D3: South | E3: Gulf Coast | F3: 43983 | G3: 62000 | H3: 5 | I3: 713-555-0102 | J3: David Thompson
A4: SR003 | B4: Lisa Wang | C4: lwang@zava.com | D4: East | E4: Atlantic | F4: 43353 | G4: 68000 | H4: 5.5 | I4: 212-555-0103 | J4: Rachel Moore
A5: SR004 | B5: Tom Martinez | C5: tmartinez@zava.com | D5: West | E5: Pacific | F5: 44216 | G5: 60000 | H5: 4.5 | I5: 310-555-0104 | J5: Rachel Moore
A6: SR005 | B6: David Thompson | C6: dthompson@zava.com | D6: North | E6: Central | F6: 42095 | G6: 85000 | H6: 6 | I6: 312-555-0105 | J6: VP Sales
A7: SR006 | B7: Rachel Moore | C7: rmoore@zava.com | D7: East | E7: Northeast | F7: 42566 | G7: 82000 | H7: 6 | I7: 617-555-0106 | J7: VP Sales

Sheet Targets & KPIs
A1: ZAVA BOTTLING - SALES TARGETS & KPIs 2024
A3: MONTHLY SALES TARGETS BY REGION
A4: Month | B4: North Target | C4: North Actual | D4: North % | E4: South Target | F4: South Actual | G4: South % | H4: East Target | I4: East Actual | J4: East % | K4: West Target | L4: West Actual | M4: West %
A5: January | B5: 15000 | C5: =SUMIFS('Sales Data'!$J:$J,'Sales Data'!$N:$N,"North",'Sales Data'!$B:$B,">=2024-01-01",'Sales Data'!$B:$B,"<2024-02-01") -> 5797.3 | D5: =IF(B5=0,0,C5/B5) -> 0.38648667 | E5: 18000 | F5: =SUMIFS('Sales Data'!$J:$J,'Sales Data'!$N:$N,"South",'Sales Data'!$B:$B,">=2024-01-01",'Sales Data'!$B:$B,"<2024-02-01") -> 6926.8 | G5: =IF(E5=0,0,F5/E5) -> 0.38482222 | H5: 16000 | I5: =SUMIFS('Sales Data'!$J:$J,'Sales Data'!$N:$N,"East",'Sales Data'!$B:$B,">=2024-01-01",'Sales Data'!$B:$B,"<2024-02-01") -> 8253.6 | J5: =IF(H5=0,0,I5/H5) -> 0.51585 | K5: 20000 | L5: =SUMIFS('Sales Data'!$J:$J,'Sales Data'!$N:$N,"West",'Sales Data'!$B:$B,">=2024-01-01",'Sales Data'!$B:$B,"<2024-02-01") -> 12391.5 | M5: =IF(K5=0,0,L5/K5) -> 0.619575
A6: February | B6: 16000 | C6: =SUMIFS('Sales Data'!$J:$J,'Sales Data'!$N:$N,"North",'Sales Data'!$B:$B,">=2024-02-01",'Sales Data'!$B:$B,"<2024-03-01") -> 4061.3 | D6: =IF(B6=0,0,C6/B6) -> 0.25383125 | E6: 19000 | F6: =SUMIFS('Sales Data'!$J:$J,'Sales Data'!$N:$N,"South",'Sales Data'!$B:$B,">=2024-02-01",'Sales Data'!$B:$B,"<2024-03-01") -> 10256.5 | G6: =IF(E6=0,0,F6/E6) -> 0.53981579 | H6: 17000 | I6: =SUMIFS('Sales Data'!$J:$J,'Sales Data'!$N:$N,"East",'Sales Data'!$B:$B,">=2024-02-01",'Sales Data'!$B:$B,"<2024-03-01") -> 6568.1 | J6: =IF(H6=0,0,I6/H6) -> 0.38635882 | K6: 21000 | L6: =SUMIFS('Sales Data'!$J:$J,'Sales Data'!$N:$N,"West",'Sales Data'!$B:$B,">=2024-02-01",'Sales Data'!$B:$B,"<2024-03-01") -> 10643 | M6: =IF(K6=0,0,L6/K6) -> 0.50680952
A7: March | B7: 18000 | C7: =SUMIFS('Sales Data'!$J:$J,'Sales Data'!$N:$N,"North",'Sales Data'!$B:$B,">=2024-03-01",'Sales Data'!$B:$B,"<2024-04-01") -> 7354.4 | D7: =IF(B7=0,0,C7/B7) -> 0.40857778 | E7: 21000 | F7: =SUMIFS('Sales Data'!$J:$J,'Sales Data'!$N:$N,"South",'Sales Data'!$B:$B,">=2024-03-01",'Sales Data'!$B:$B,"<2024-04-01") -> 10960.5 | G7: =IF(E7=0,0,F7/E7) -> 0.52192857 | H7: 19000 | I7: =SUMIFS('Sales Data'!$J:$J,'Sales Data'!$N:$N,"East",'Sales Data'!$B:$B,">=2024-03-01",'Sales Data'!$B:$B,"<2024-04-01") -> 5161.8 | J7: =IF(H7=0,0,I7/H7) -> 0.27167368 | K7: 24000 | L7: =SUMIFS('Sales Data'!$J:$J,'Sales Data'!$N:$N,"West",'Sales Data'!$B:$B,">=2024-03-01",'Sales Data'!$B:$B,"<2024-04-01") -> 9966.9 | M7: =IF(K7=0,0,L7/K7) -> 0.4152875
A8: April | B8: 17000 | C8: =SUMIFS('Sales Data'!$J:$J,'Sales Data'!$N:$N,"North",'Sales Data'!$B:$B,">=2024-04-01",'Sales Data'!$B:$B,"<2024-05-01") -> 8410.5 | D8: =IF(B8=0,0,C8/B8) -> 0.49473529 | E8: 20000 | F8: =SUMIFS('Sales Data'!$J:$J,'Sales Data'!$N:$N,"South",'Sales Data'!$B:$B,">=2024-04-01",'Sales Data'!$B:$B,"<2024-05-01") -> 9892.1 | G8: =IF(E8=0,0,F8/E8) -> 0.494605 | H8: 18000 | I8: =SUMIFS('Sales Data'!$J:$J,'Sales Data'!$N:$N,"East",'Sales Data'!$B:$B,">=2024-04-01",'Sales Data'!$B:$B,"<2024-05-01") -> 5307.1 | J8: =IF(H8=0,0,I8/H8) -> 0.29483889 | K8: 22000 | L8: =SUMIFS('Sales Data'!$J:$J,'Sales Data'!$N:$N,"West",'Sales Data'!$B:$B,">=2024-04-01",'Sales Data'!$B:$B,"<2024-05-01") -> 11422 | M8: =IF(K8=0,0,L8/K8) -> 0.51918182
A9: May | B9: 19000 | C9: =SUMIFS('Sales Data'!$J:$J,'Sales Data'!$N:$N,"North",'Sales Data'!$B:$B,">=2024-05-01",'Sales Data'!$B:$B,"<2024-06-01") -> 8158 | D9: =IF(B9=0,0,C9/B9) -> 0.42936842 | E9: 22000 | F9: =SUMIFS('Sales Data'!$J:$J,'Sales Data'!$N:$N,"South",'Sales Data'!$B:$B,">=2024-05-01",'Sales Data'!$B:$B,"<2024-06-01") -> 10507.3 | G9: =IF(E9=0,0,F9/E9) -> 0.47760455 | H9: 20000 | I9: =SUMIFS('Sales Data'!$J:$J,'Sales Data'!$N:$N,"East",'Sales Data'!$B:$B,">=2024-05-01",'Sales Data'!$B:$B,"<2024-06-01") -> 9506.9 | J9: =IF(H9=0,0,I9/H9) -> 0.475345 | K9: 25000 | L9: =SUMIFS('Sales Data'!$J:$J,'Sales Data'!$N:$N,"West",'Sales Data'!$B:$B,">=2024-05-01",'Sales Data'!$B:$B,"<2024-06-01") -> 9595.2 | M9: =IF(K9=0,0,L9/K9) -> 0.383808
A10: June | B10: 20000 | C10: =SUMIFS('Sales Data'!$J:$J,'Sales Data'!$N:$N,"North",'Sales Data'!$B:$B,">=2024-06-01",'Sales Data'!$B:$B,"<2024-07-01") -> 6445.6 | D10: =IF(B10=0,0,C10/B10) -> 0.32228 | E10: 23000 | F10: =SUMIFS('Sales Data'!$J:$J,'Sales Data'!$N:$N,"South",'Sales Data'!$B:$B,">=2024-06-01",'Sales Data'!$B:$B,"<2024-07-01") -> 12713.5 | G10: =IF(E10=0,0,F10/E10) -> 0.55276087 | H10: 21000 | I10: =SUMIFS('Sales Data'!$J:$J,'Sales Data'!$N:$N,"East",'Sales Data'!$B:$B,">=2024-06-01",'Sales Data'!$B:$B,"<2024-07-01") -> 5766.8 | J10: =IF(H10=0,0,I10/H10) -> 0.27460952 | K10: 26000 | L10: =SUMIFS('Sales Data'!$J:$J,'Sales Data'!$N:$N,"West",'Sales Data'!$B:$B,">=2024-06-01",'Sales Data'!$B:$B,"<2024-07-01") -> 15061.4 | M10: =IF(K10=0,0,L10/K10) -> 0.57928462
A11: July | H11: 22000 | I11: =SUMIFS('Sales Data'!$J:$J,'Sales Data'!$N:$N,"East",'Sales Data'!$B:$B,">=2024-07-01",'Sales Data'!$B:$B,"<2024-08-01") -> 9094.1 | J11: =IF(H11=0,0,I11/H11) -> 0.41336818 | K11: 27000 | L11: =SUMIFS('Sales Data'!$J:$J,'Sales Data'!$N:$N,"West",'Sales Data'!$B:$B,">=2024-07-01",'Sales Data'!$B:$B,"<2024-08-01") -> 12010.9 | M11: =IF(K11=0,0,L11/K11) -> 0.44484815
A12: August | B12: 20000 | C12: =SUMIFS('Sales Data'!$J:$J,'Sales Data'!$N:$N,"North",'Sales Data'!$B:$B,">=2024-08-01",'Sales Data'!$B:$B,"<2024-09-01") -> 8256.2 | D12: =IF(B12=0,0,C12/B12) -> 0.41281 | E12: 23000 | F12: =SUMIFS('Sales Data'!$J:$J,'Sales Data'!$N:$N,"South",'Sales Data'!$B:$B,">=2024-08-01",'Sales Data'!$B:$B,"<2024-09-01") -> 13590.4 | G12: =IF(E12=0,0,F12/E12) -> 0.59088696 | H12: 21000 | I12: =SUMIFS('Sales Data'!$J:$J,'Sales Data'!$N:$N,"East",'Sales Data'!$B:$B,">=2024-08-01",'Sales Data'!$B:$B,"<2024-09-01") -> 8824.6 | J12: =IF(H12=0,0,I12/H12) -> 0.42021905 | K12: 26000 | L12: =SUMIFS('Sales Data'!$J:$J,'Sales Data'!$N:$N,"West",'Sales Data'!$B:$B,">=2024-08-01",'Sales Data'!$B:$B,"<2024-09-01") -> 11716.2 | M12: =IF(K12=0,0,L12/K12) -> 0.45062308
A13: September | B13: 19000 | C13: =SUMIFS('Sales Data'!$J:$J,'Sales Data'!$N:$N,"North",'Sales Data'!$B:$B,">=2024-09-01",'Sales Data'!$B:$B,"<2024-10-01") -> 6800.4 | D13: =IF(B13=0,0,C13/B13) -> 0.35791579 | E13: 22000 | F13: =SUMIFS('Sales Data'!$J:$J,'Sales Data'!$N:$N,"South",'Sales Data'!$B:$B,">=2024-09-01",'Sales Data'!$B:$B,"<2024-10-01") -> 7468.4 | G13: =IF(E13=0,0,F13/E13) -> 0.33947273 | H13: 20000 | I13: =SUMIFS('Sales Data'!$J:$J,'Sales Data'!$N:$N,"East",'Sales Data'!$B:$B,">=2024-09-01",'Sales Data'!$B:$B,"<2024-10-01") -> 8853.6 | J13: =IF(H13=0,0,I13/H13) -> 0.44268 | K13: 25000 | L13: =SUMIFS('Sales Data'!$J:$J,'Sales Data'!$N:$N,"West",'Sales Data'!$B:$B,">=2024-09-01",'Sales Data'!$B:$B,"<2024-10-01") -> 12058.6 | M13: =IF(K13=0,0,L13/K13) -> 0.482344
A14: October | B14: 21000 | C14: =SUMIFS('Sales Data'!$J:$J,'Sales Data'!$N:$N,"North",'Sales Data'!$B:$B,">=2024-10-01",'Sales Data'!$B:$B,"<2024-11-01") -> 9692.5 | D14: =IF(B14=0,0,C14/B14) -> 0.46154762 | E14: 24000 | F14: =SUMIFS('Sales Data'!$J:$J,'Sales Data'!$N:$N,"South",'Sales Data'!$B:$B,">=2024-10-01",'Sales Data'!$B:$B,"<2024-11-01") -> 13589.6 | G14: =IF(E14=0,0,F14/E14) -> 0.56623333 | H14: 22000 | I14: =SUMIFS('Sales Data'!$J:$J,'Sales Data'!$N:$N,"East",'Sales Data'!$B:$B,">=2024-10-01",'Sales Data'!$B:$B,"<2024-11-01") -> 6079.5 | J14: =IF(H14=0,0,I14/H14) -> 0.27634091 | K14: 27000 | L14: =SUMIFS('Sales Data'!$J:$J,'Sales Data'!$N:$N,"West",'Sales Data'!$B:$B,">=2024-10-01",'Sales Data'!$B:$B,"<2024-11-01") -> 13180.7 | M14: =IF(K14=0,0,L14/K14) -> 0.48817407
A15: November | B15: 18000 | C15: =SUMIFS('Sales Data'!$J:$J,'Sales Data'!$N:$N,"North",'Sales Data'!$B:$B,">=2024-11-01",'Sales Data'!$B:$B,"<2024-12-01") -> 11164.9 | D15: =IF(B15=0,0,C15/B15) -> 0.62027222 | E15: 21000 | F15: =SUMIFS('Sales Data'!$J:$J,'Sales Data'!$N:$N,"South",'Sales Data'!$B:$B,">=2024-11-01",'Sales Data'!$B:$B,"<2024-12-01") -> 2997.9 | G15: =IF(E15=0,0,F15/E15) -> 0.14275714 | H15: 19000 | I15: =SUMIFS('Sales Data'!$J:$J,'Sales Data'!$N:$N,"East",'Sales Data'!$B:$B,">=2024-11-01",'Sales Data'!$B:$B,"<2024-12-01") -> 7613.8 | J15: =IF(H15=0,0,I15/H15) -> 0.40072632 | K15: 24000 | L15: =SUMIFS('Sales Data'!$J:$J,'Sales Data'!$N:$N,"West",'Sales Data'!$B:$B,">=2024-11-01",'Sales Data'!$B:$B,"<2024-12-01") -> 14448.4 | M15: =IF(K15=0,0,L15/K15) -> 0.60201667
A16: December | B16: 25000 | C16: =SUMIFS('Sales Data'!$J:$J,'Sales Data'!$N:$N,"North",'Sales Data'!$B:$B,">=2024-12-01",'Sales Data'!$B:$B,"<2025-01-01") -> 11725.7 | D16: =IF(B16=0,0,C16/B16) -> 0.469028 | E16: 28000 | F16: =SUMIFS('Sales Data'!$J:$J,'Sales Data'!$N:$N,"South",'Sales Data'!$B:$B,">=2024-12-01",'Sales Data'!$B:$B,"<2025-01-01") -> 26614.7 | G16: =IF(E16=0,0,F16/E16) -> 0.950525 | H16: 26000 | I16: =SUMIFS('Sales Data'!$J:$J,'Sales Data'!$N:$N,"East",'Sales Data'!$B:$B,">=2024-12-01",'Sales Data'!$B:$B,"<2025-01-01") -> 9129.7 | J16: =IF(H16=0,0,I16/H16) -> 0.35114231 | K16: 32000 | L16: =SUMIFS('Sales Data'!$J:$J,'Sales Data'!$N:$N,"West",'Sales Data'!$B:$B,">=2024-12-01",'Sales Data'!$B:$B,"<2025-01-01") -> 12543.7 | M16: =IF(K16=0,0,L16/K16) -> 0.39199063
A17: TOTAL | B17: =SUM(B5:B16) -> 208000 | C17: =SUM(C5:C16) -> 87866.8 | D17: =IF(B17=0,0,C17/B17) -> 0.42243654 | E17: =SUM(E5:E16) -> 241000 | F17: =SUM(F5:F16) -> 125517.7 | G17: =IF(E17=0,0,F17/E17) -> 0.52082033 | H17: =SUM(H5:H16) -> 241000 | I17: =SUM(I5:I16) -> 90159.6 | J17: =IF(H17=0,0,I17/H17) -> 0.37410622 | K17: =SUM(K5:K16) -> 299000 | L17: =SUM(L5:L16) -> 145038.5 | M17: =IF(K17=0,0,L17/K17) -> 0.4850786
A18: KEY PERFORMANCE INDICATORS
A19: SALES REP PERFORMANCE - FULL YEAR 2024
A20: Sales Rep | B20: Annual Target | C20: Annual Actual | D20: Achievement % | E20: Commission Rate | F20: Earned Commission | G20: Status
A21: Sarah Johnson | B21: 200000 | C21: =SUMIF('Sales Data'!$M:$M,"Sarah Johnson",'Sales Data'!$J:$J) -> 95717 | D21: =IF(B21=0,0,C21/B21) -> 0.478585 | E21: 0.05 | F21: =C21*E21 -> 4785.85 | G21: =IF(D21>=1,"✓ Target Met",IF(D21>=0.8,"⚡ Close","⚠ Below")) -> ⚠ Below
A22: Mike Chen | B22: 220000 | C22: =SUMIF('Sales Data'!$M:$M,"Mike Chen",'Sales Data'!$J:$J) -> 134445.5 | D22: =IF(B22=0,0,C22/B22) -> 0.61111591 | E22: 0.05 | F22: =C22*E22 -> 6722.275 | G22: =IF(D22>=1,"✓ Target Met",IF(D22>=0.8,"⚡ Close","⚠ Below")) -> ⚠ Below
A23: Lisa Wang | B23: 210000 | C23: =SUMIF('Sales Data'!$M:$M,"Lisa Wang",'Sales Data'!$J:$J) -> 90159.6 | D23: =IF(B23=0,0,C23/B23) -> 0.42933143 | E23: 0.055 | F23: =C23*E23 -> 4958.778 | G23: =IF(D23>=1,"✓ Target Met",IF(D23>=0.8,"⚡ Close","⚠ Below")) -> ⚠ Below
A24: Tom Martinez | B24: 250000 | C24: =SUMIF('Sales Data'!$M:$M,"Tom Martinez",'Sales Data'!$J:$J) -> 145038.5 | D24: =IF(B24=0,0,C24/B24) -> 0.580154 | E24: 0.045 | F24: =C24*E24 -> 6526.7325 | G24: =IF(D24>=1,"✓ Target Met",IF(D24>=0.8,"⚡ Close","⚠ Below")) -> ⚠ Below
A25: TOTAL | B25: =SUM(B21:B24) -> 880000 | C25: =SUM(C21:C24) -> 465360.6 | D25: =IF(B25=0,0,C25/B25) -> 0.52881886 | F25: =SUM(F21:F24) -> 22993.635
A27: KEY PERFORMANCE INDICATORS - 2024
A28: KPI Metric | B28: Target | C28: Actual | D28: Status
A29: Total Revenue | B29: 880000 | C29: =SUM('Sales Data'!J:J) -> 465360.6 | D29: =IF(C29>=B29,"✓ On Track","⚠ Below Target") -> ⚠ Below Target
A30: Total Profit | B30: 580000 | C30: =SUM('Sales Data'!L:L) -> 310342.6 | D30: =IF(C30>=B30,"✓ On Track","⚠ Below Target") -> ⚠ Below Target
A31: Total Orders | B31: 120 | C31: =COUNTA('Sales Data'!A:A)-1 -> 263 | D31: =IF(C31>=B31,"✓ On Track","⚠ Below Target") -> ✓ On Track
A32: Average Order Value | B32: 1500 | C32: =AVERAGE('Sales Data'!J:J) -> 1769.4319 | D32: =IF(C32>=B32,"✓ On Track","⚠ Below Target") -> ✓ On Track
A33: Profit Margin % | B33: 0.6 | C33: =SUM('Sales Data'!L:L)/SUM('Sales Data'!J:J) -> 0.66688628 | D33: =IF(C33>=B33,"✓ On Track","⚠ Below Target") -> ✓ On Track
A34: Active Customers | B34: 20 | C34: =COUNTA(Customers[Customer ID]) -> 110 | D34: =IF(C34>=B34,"✓ On Track","⚠ Below Target") -> ✓ On Track

Sheet Sales Pipeline
A1: Opportunity ID | B1: Customer | C1: Contact | D1: Product Interest | E1: Est. Value ($) | F1: Probability % | G1: Weighted Value ($) | H1: Stage | I1: Expected Close | J1: Sales Rep | K1: Next Action | L1: Days in Stage | M1: Notes
A2: OPP001 | B2: National Grocery Chain | C2: Robert Smith | D2: Full Product Line | E2: 125000 | F2: 0.75 | G2: =E2*F2/100 -> 937.5 | H2: Negotiation | I2: 45458 | J2: Sarah Johnson | K2: Send final proposal | L2: 12 | M2: Very interested in exclusive deal
A3: OPP002 | B3: Regional Hospital Network | C3: Dr. Amy Chen | D3: Water & Tea Products | E3: 85000 | F3: 0.6 | G3: =E3*F3/100 -> 510 | H3: Proposal | I3: 45473 | J3: Lisa Wang | K3: Schedule demo | L3: 8 | M3: Need to meet compliance requirements
A4: OPP003 | B4: Stadium Concessions Inc | C4: Mike Turner | D4: Sports & Energy Drinks | E4: 95000 | F4: 0.8 | G4: =E4*F4/100 -> 760 | H4: Negotiation | I4: 45463 | J4: Tom Martinez | K4: Negotiate pricing | L4: 5 | M4: Competing with two other vendors
A5: OPP004 | B5: University System | C5: Dean Williams | D5: All Beverages | E5: 150000 | F5: 0.4 | G5: =E5*F5/100 -> 600 | H5: Qualification | I5: 45505 | J5: Mike Chen | K5: Identify decision makers | L5: 20 | M5: Long procurement process
A6: OPP005 | B6: Fitness Center Chain | C6: Laura Green | D6: Sports Hydrate Line | E6: 45000 | F6: 0.85 | G6: =E6*F6/100 -> 382.5 | H6: Closing | I6: 45453 | J6: Tom Martinez | K6: Get signed contract | L6: 3 | M6: Ready to close
A7: OPP006 | B7: Hotel Resort Group | C7: James Wilson | D7: Sparkling & Premium Water | E7: 78000 | F7: 0.5 | G7: =E7*F7/100 -> 390 | H7: Proposal | I7: 45488 | J7: Mike Chen | K7: Present ROI analysis | L7: 15 | M7: Budget approval pending
A8: OPP007 | B8: Quick Service Restaurant | C8: Nancy Lee | D8: Soft Drinks | E8: 110000 | F8: 0.65 | G8: =E8*F8/100 -> 715 | H8: Proposal | I8: 45474 | J8: Sarah Johnson | K8: Address concerns | L8: 10 | M8: Price sensitive
A9: OPP008 | B9: Airport Authority | C9: Tom Black | D9: Full Beverage Range | E9: 200000 | F9: 0.3 | G9: =E9*F9/100 -> 600 | H9: Qualification | I9: 45536 | J9: Lisa Wang | K9: Submit RFP response | L9: 25 | M9: Formal bid process
A10: OPP009 | B10: Corporate Campus | C10: Ellen White | D10: Water & Tea | E10: 35000 | F10: 0.9 | G10: =E10*F10/100 -> 315 | H10: Closing | I10: 45448 | J10: Sarah Johnson | K10: Finalize delivery schedule | L10: 2 | M10: Verbal commitment received
A11: OPP010 | B11: Amusement Park | C11: Gary Moore | D11: All Products | E11: 175000 | F11: 0.55 | G11: =E11*F11/100 -> 962.5 | H11: Negotiation | I11: 45493 | J11: Mike Chen | K11: Volume discount discussion | L11: 7 | M11: Multi-year contract possible
A12: OPP011 | B12: School District | C12: Principal Adams | D12: Juices & Water | E12: 55000 | F12: 0.7 | G12: =E12*F12/100 -> 385 | H12: Proposal | I12: 45519 | J12: Lisa Wang | K12: Present healthy options | L12: 6 | M12: Health-focused requirements
A13: OPP012 | B13: Convention Center | C13: Sarah Davis | D13: Energy & Sports | E13: 65000 | F13: 0.45 | G13: =E13*F13/100 -> 292.5 | H13: Qualification | I13: 45505 | J13: Tom Martinez | K13: Schedule site visit | L13: 18 | M13: New venue opening
... A71: OPP070 | B71: Regional Fairgrounds | C71: Events Manager | D71: All Beverages | E71: 94000 | F71: 60 | G71: =E71*F71/100 -> 56400 | H71: Proposal | I71: 45524 | J71: Sarah Johnson | K71: Event calendar | L71: 15 | M71: Annual events

Sheet Inventory
A1: Product ID | B1: Product Name | C1: Category | D1: Current Stock | E1: Reorder Level | F1: Reorder Qty | G1: Status | H1: Warehouse | I1: Last Restock Date | J1: Unit Cost ($) | K1: Inventory Value ($) | L1: Days Supply
A2: P001 | B2: Zava Spring Water 0.5L | C2: Water | D2: 15000 | E2: 5000 | F2: 10000 | G2: =IF(D2<=E2,"⚠ REORDER",IF(D2<=E2*1.5,"⚡ LOW","✓ OK")) -> ✓ OK | H2: Main | I2: 45427 | J2: 0.45 | K2: =D2*J2 -> 6750 | L2: =ROUND(D2/100,0) -> 150
A3: P002 | B3: Zava Spring Water 1.0L | C3: Water | D3: 8500 | E3: 3000 | F3: 6000 | G3: =IF(D3<=E3,"⚠ REORDER",IF(D3<=E3*1.5,"⚡ LOW","✓ OK")) -> ✓ OK | H3: Main | I3: 45422 | J3: 0.72 | K3: =D3*J3 -> 6120 | L3: =ROUND(D3/100,0) -> 85
A4: P003 | B4: Zava Spring Water 1.5L | C4: Water | D4: 4200 | E4: 2000 | F4: 4000 | G4: =IF(D4<=E4,"⚠ REORDER",IF(D4<=E4*1.5,"⚡ LOW","✓ OK")) -> ✓ OK | H4: Main | I4: 45424 | J4: 0.89 | K4: =D4*J4 -> 3738 | L4: =ROUND(D4/100,0) -> 42
A5: P004 | B5: Zava Sparkling Water 0.5L | C5: Sparkling | D5: 6800 | E5: 2500 | F5: 5000 | G5: =IF(D5<=E5,"⚠ REORDER",IF(D5<=E5*1.5,"⚡ LOW","✓ OK")) -> ✓ OK | H5: Main | I5: 45420 | J5: 0.52 | K5: =D5*J5 -> 3536 | L5: =ROUND(D5/100,0) -> 68
A6: P005 | B6: Zava Sparkling Water 1.0L | C6: Sparkling | D6: 3500 | E6: 1500 | F6: 3000 | G6: =IF(D6<=E6,"⚠ REORDER",IF(D6<=E6*1.5,"⚡ LOW","✓ OK")) -> ✓ OK | H6: Main | I6: 45417 | J6: 0.81 | K6: =D6*J6 -> 2835 | L6: =ROUND(D6/100,0) -> 35
A7: P006 | B7: Zava Cola Classic 0.33L | C7: Soft Drinks | D7: 12000 | E7: 4000 | F7: 8000 | G7: =IF(D7<=E7,"⚠ REORDER",IF(D7<=E7*1.5,"⚡ LOW","✓ OK")) -> ✓ OK | H7: Main | I7: 45430 | J7: 0.38 | K7: =D7*J7 -> 4560 | L7: =ROUND(D7/100,0) -> 120
A8: P007 | B8: Zava Cola Classic 0.5L | C8: Soft Drinks | D8: 9500 | E8: 3500 | F8: 7000 | G8: =IF(D8<=E8,"⚠ REORDER",IF(D8<=E8*1.5,"⚡ LOW","✓ OK")) -> ✓ OK | H8: Main | I8: 45426 | J8: 0.48 | K8: =D8*J8 -> 4560 | L8: =ROUND(D8/100,0) -> 95
A9: P008 | B9: Zava Cola Classic 1.5L | C9: Soft Drinks | D9: 5800 | E9: 2000 | F9: 4000 | G9: =IF(D9<=E9,"⚠ REORDER",IF(D9<=E9*1.5,"⚡ LOW","✓ OK")) -> ✓ OK | H9: Main | I9: 45423 | J9: 0.92 | K9: =D9*J9 -> 5336 | L9: =ROUND(D9/100,0) -> 58
A10: P009 | B10: Zava Orange Burst 0.33L | C10: Soft Drinks | D10: 7200 | E10: 3000 | F10: 6000 | G10: =IF(D10<=E10,"⚠ REORDER",IF(D10<=E10*1.5,"⚡ LOW","✓ OK")) -> ✓ OK | H10: Main | I10: 45428 | J10: 0.39 | K10: =D10*J10 -> 2808 | L10: =ROUND(D10/100,0) -> 72
A11: P010 | B11: Zava Orange Burst 0.5L | C11: Soft Drinks | D11: 4800 | E11: 2000 | F11: 4000 | G11: =IF(D11<=E11,"⚠ REORDER",IF(D11<=E11*1.5,"⚡ LOW","✓ OK")) -> ✓ OK | H11: Main | I11: 45421 | J11: 0.49 | K11: =D11*J11 -> 2352 | L11: =ROUND(D11/100,0) -> 48
A12: P011 | B12: Zava Lemon Fizz 0.33L | C12: Soft Drinks | D12: 6500 | E12: 2500 | F12: 5000 | G12: =IF(D12<=E12,"⚠ REORDER",IF(D12<=E12*1.5,"⚡ LOW","✓ OK")) -> ✓ OK | H12: Main | I12: 45425 | J12: 0.37 | K12: =D12*J12 -> 2405 | L12: =ROUND(D12/100,0) -> 65
A13: P012 | B13: Zava Lemon Fizz 0.5L | C13: Soft Drinks | D13: 3200 | E13: 1500 | F13: 3000 | G13: =IF(D13<=E13,"⚠ REORDER",IF(D13<=E13*1.5,"⚡ LOW","✓ OK")) -> ✓ OK | H13: Main | I13: 45419 | J13: 0.47 | K13: =D13*J13 -> 1504 | L13: =ROUND(D13/100,0) -> 32
... A21: P020 | B21: Zava Juice Orange 0.33L | C21: Juices | D21: 2500 | E21: 1200 | F21: 2500 | G21: =IF(D21<=E21,"⚠ REORDER",IF(D21<=E21*1.5,"⚡ LOW","✓ OK")) -> ✓ OK | H21: Main | I21: 45420 | J21: 0.74 | K21: =D21*J21 -> 1850 | L21: =ROUND(D21/100,0) -> 25

Sheet Executive Summary
A1: ZAVA BOTTLING — 2024 EXECUTIVE SUMMARY & ACTION PLAN
A2: Full-Year Performance Dashboard | Generated from Live Data
A4: KEY PERFORMANCE INDICATORS — SCORECARD
A5: KPI Metric | B5: Target | C5: Actual (YTD) | D5: Achievement % | E5: Variance | F5: Status | G5: Trend | H5: Commentary
A6: Total Revenue YTD | B6: ='Targets & KPIs'!B29 -> 880000 | C6: ='Monthly Trends'!B16 -> 465360.6 | D6: =IFERROR(C6/B6,"-") -> 0.52881886 | E6: =C6-B6 -> -414639.4 | F6: ⚠ Below Target | G6: ↗ Growing H2 | H6: 53% of annual target; Q4 strong at $138.8K
A7: Total Profit YTD | B7: ='Targets & KPIs'!B30 -> 580000 | C7: ='Monthly Trends'!C16 -> 310342.6 | D7: =IFERROR(C7/B7,"-") -> 0.53507345 | E7: =C7-B7 -> -269657.4 | F7: ⚠ Below Target | G7: ↗ Growing H2 | H7: Margins strong at 66.7%; revenue gap drives shortfall
A8: Total Orders | B8: ='Targets & KPIs'!B31 -> 120 | C8: ='Monthly Trends'!D16 -> 263 | D8: =IFERROR(C8/B8,"-") -> 2.1916667 | E8: =C8-B8 -> 143 | F8: ✓ On Track | G8: ↗ 2.2x Over Plan | H8: 263 orders vs 120 target — strong demand signal
A9: Avg Order Value | B9: ='Targets & KPIs'!B32 -> 1500 | C9: ='Monthly Trends'!F16 -> 1763.4878 | D9: =IFERROR(C9/B9,"-") -> 1.1756586 | E9: =C9-B9 -> 263.48783 | F9: ✓ On Track | G9: ↗ Above Plan | H9: $1,763 avg vs $1,500 target; premium mix improving
A10: Profit Margin % | B10: ='Targets & KPIs'!B33 -> 0.6 | C10: ='Monthly Trends'!G16 -> 0.66688628 | D10: =IFERROR(C10/B10,"-") -> 1.1114771 | E10: =C10-B10 -> 0.066886281 | F10: ✓ On Track | G10: → Stable | H10: 66.7% exceeds 60% target; consistent across months
A11: Active Customers | B11: ='Targets & KPIs'!B34 -> 20 | C11: ='Targets & KPIs'!C34 -> 110 | D11: =IFERROR(C11/B11,"-") -> 5.5 | E11: =C11-B11 -> 90 | F11: ✓ On Track | G11: ↗ Strong Base | H11: 110 active accounts; 20 purchased YTD — activation gap
A12: Pipeline Value (Est.) | B12: - | C12: {=SUMPRODUCT(('Sales Pipeline'!E2:E71)*1)} -> 6878000 | D12: - | E12: - | F12: Pipeline Active | G12: 70 Opportunities | H12: $6.9M pipeline across 70 deals in 4 stages
A13: Forecast (Weighted) | B13: - | C13: {=SUMPRODUCT(('Sales Pipeline'!G2:G71)*1)} -> 3069150 | D13: - | E13: - | F13: Weighted Forecast | G13: See Pipeline Detail | H13: 11 deals in Closing stage worth ~$313K near-term
A15: SALES TEAM PERFORMANCE — FULL YEAR 2024
A16: Sales Rep | B16: Region | C16: Annual Target | D16: Revenue (Actual) | E16: Achievement % | F16: Profit | G16: Orders | H16: Avg Order Size | I16: Pipeline Value | J16: Pipeline Deals | K16: Commission Earned | L16: Assessment
A17: Sarah Johnson | B17: North | C17: ='Targets & KPIs'!B21 -> 200000 | D17: =SUMIFS('Sales Data'!J:J,'Sales Data'!M:M,A17) -> 95717 | E17: =IFERROR(D17/C17,0) -> 0.478585 | F17: =SUMIFS('Sales Data'!L:L,'Sales Data'!M:M,A17) -> 64055.2 | G17: =COUNTIFS('Sales Data'!M:M,A17) -> 63 | H17: =IFERROR(D17/G17,0) -> 1519.3175 | I17: 1730000 | J17: 17 | K17: ='Targets & KPIs'!F21 -> 4785.85 | L17: Below target; strong order count but low deal size
A18: Mike Chen | B18: South | C18: ='Targets & KPIs'!B22 -> 220000 | D18: =SUMIFS('Sales Data'!J:J,'Sales Data'!M:M,A18) -> 134445.5 | E18: =IFERROR(D18/C18,0) -> 0.61111591 | F18: =SUMIFS('Sales Data'!L:L,'Sales Data'!M:M,A18) -> 89188.2 | G18: =COUNTIFS('Sales Data'!M:M,A18) -> 65 | H18: =IFERROR(D18/G18,0) -> 2068.3923 | I18: 1505000 | J18: 17 | K18: ='Targets & KPIs'!F22 -> 6722.275 | L18: Solid performer; 61% achievement, highest South region
A19: Lisa Wang | B19: East | C19: ='Targets & KPIs'!B23 -> 210000 | D19: =SUMIFS('Sales Data'!J:J,'Sales Data'!M:M,A19) -> 90159.6 | E19: =IFERROR(D19/C19,0) -> 0.42933143 | F19: =SUMIFS('Sales Data'!L:L,'Sales Data'!M:M,A19) -> 59645.5 | G19: =COUNTIFS('Sales Data'!M:M,A19) -> 73 | H19: =IFERROR(D19/G19,0) -> 1235.063 | I19: 1716000 | J19: 17 | K19: ='Targets & KPIs'!F23 -> 4958.778 | L19: Most orders (73); needs higher-value deals
A20: Tom Martinez | B20: West | C20: ='Targets & KPIs'!B24 -> 250000 | D20: =SUMIFS('Sales Data'!J:J,'Sales Data'!M:M,A20) -> 145038.5 | E20: =IFERROR(D20/C20,0) -> 0.580154 | F20: =SUMIFS('Sales Data'!L:L,'Sales Data'!M:M,A20) -> 97453.7 | G20: =COUNTIFS('Sales Data'!M:M,A20) -> 62 | H20: =IFERROR(D20/G20,0) -> 2339.3306 | I20: 1927000 | J20: 19 | K20: ='Targets & KPIs'!F24 -> 6526.7325 | L20: Top revenue; largest pipeline — key growth driver
A21: TEAM TOTAL | B21: All | C21: =SUM(C17:C20) -> 880000 | D21: =SUM(D17:D20) -> 465360.6 | E21: =IFERROR(D21/C21,0) -> 0.52881886 | F21: =SUM(F17:F20) -> 310342.6 | G21: =SUM(G17:G20) -> 263 | H21: =IFERROR(D21/G21,0) -> 1769.4319 | I21: =SUM(I17:I20) -> 6878000 | J21: =SUM(J17:J20) -> 70 | K21: =SUM(K17:K20) -> 22993.635 | L21: 53% overall; all reps below target
A23: SALES PIPELINE ANALYSIS BY STAGE
A24: Stage | B24: # of Deals | C24: Total Est. Value | D24: Weighted Value | E24: Avg Deal Size | F24: % of Pipeline | G24: Recommended Action
A25: Closing | B25: =COUNTIFS('Sales Pipeline'!H:H,"Closing") -> 11 | C25: =SUMIFS('Sales Pipeline'!E:E,'Sales Pipeline'!H:H,"Closing") -> 458000 | D25: =SUMIFS('Sales Pipeline'!G:G,'Sales Pipeline'!H:H,"Closing") -> 313197.5 | E25: =IFERROR(C25/B25,0) -> 41636.364 | F25: =IFERROR(C25/C29,0) -> 0.066589125 | G25: Priority: Execute contracts this week; 11 deals ready to sign
A26: Negotiation | B26: =COUNTIFS('Sales Pipeline'!H:H,"Negotiation") -> 18 | C26: =SUMIFS('Sales Pipeline'!E:E,'Sales Pipeline'!H:H,"Negotiation") -> 1718000 | D26: =SUMIFS('Sales Pipeline'!G:G,'Sales Pipeline'!H:H,"Negotiation") -> 855110 | E26: =IFERROR(C26/B26,0) -> 95444.444 | F26: =IFERROR(C26/C29,0) -> 0.24978191 | G26: Push hard: 18 deals in active negotiation; accelerate to close
A27: Proposal | B27: =COUNTIFS('Sales Pipeline'!H:H,"Proposal") -> 25 | C27: =SUMIFS('Sales Pipeline'!E:E,'Sales Pipeline'!H:H,"Proposal") -> 2204000 | D27: =SUMIFS('Sales Pipeline'!G:G,'Sales Pipeline'!H:H,"Proposal") -> 1089900 | E27: =IFERROR(C27/B27,0) -> 88160 | F27: =IFERROR(C27/C29,0) -> 0.32044199 | G27: Follow up: Customize proposals; address objections proactively
A28: Qualification | B28: =COUNTIFS('Sales Pipeline'!H:H,"Qualification") -> 16 | C28: =SUMIFS('Sales Pipeline'!E:E,'Sales Pipeline'!H:H,"Qualification") -> 2498000 | D28: =SUMIFS('Sales Pipeline'!G:G,'Sales Pipeline'!H:H,"Qualification") -> 810942.5 | E28: =IFERROR(C28/B28,0) -> 156125 | F28: =IFERROR(C28/C29,0) -> 0.36318697 | G28: Qualify faster: 16 deals avg 25 days in stage; reduce to 15
A29: TOTAL PIPELINE | B29: =SUM(B25:B28) -> 70 | C29: =SUM(C25:C28) -> 6878000 | D29: =SUM(D25:D28) -> 3069150 | E29: =IFERROR(C29/B29,0) -> 98257.143 | F29: 1 | G29: $6.9M pipeline; focus on Closing + Negotiation stages
A31: TOP 3 RISKS
A32: # | B32: Risk | C32: Impact | D32: Evidence | E32: Likelihood | F32: Mitigation
A33: 1 | B33: Revenue Target Shortfall | C33: HIGH | D33: YTD revenue at $465K vs $880K target (53%); all reps below plan. North region worst at 42% achievement. | E33: Very High | F33: Accelerate pipeline conversion; focus on Closing & Negotiation stage deals ($2.2M combined)
A34: 2 | B34: Customer Concentration | C34: MEDIUM | D34: Only 20 of 110 active accounts (18%) purchased in 2024. Revenue depends on narrow customer base. | E34: High | F34: Launch activation campaign for dormant 90 accounts; assign quota for new customer wins per rep
A35: 3 | B35: Payment Collection Risk | C35: MEDIUM | D35: 10 orders (~3.8%) in Pending payment status. Cash flow exposure if trend grows. | E35: Medium | F35: Implement 48-hour follow-up on pending invoices; review Net 45 terms for high-risk accounts
A37: TOP 3 OPPORTUNITIES
A38: # | B38: Opportunity | C38: Potential Value | D38: Evidence | E38: Timeline | F38: Recommended Action
A39: 1 | B39: Near-Term Pipeline Conversion | C39: $2.2M (Closing + Negotiation) | D39: 29 deals in Closing (11) and Negotiation (18) stages. $458K ready to close immediately. | E39: 30-60 days | F39: Executive-sponsored deal review; assign closing support to top 10 deals by value
A40: 2 | B40: December-Style Seasonal Push | C40: $60K+ monthly potential | D40: December hit $60K (65.7% MoM growth). Replicable with targeted promotions in summer/holiday peaks. | E40: Next Quarter | F40: Build seasonal campaign playbook; pre-sell holiday inventory to top 20 accounts
A41: 3 | B41: Premium Category Expansion | C41: $100K+ incremental | D41: Energy Drinks ($3.43 avg price, 68.1% margin) and Sports Drinks ($2.91, 67.1%) outperform on margin. Combined 38% of revenue. | E41: Ongoing | F41: Shift mix toward premium; bundle Energy + Sports in proposals; target fitness & sports venues
A43: EXECUTIVE NARRATIVE — WHAT IS DRIVING RESULTS
A44: PERFORMANCE OVERVIEW
A45: Zava Bottling achieved $465K in revenue (53% of $880K target) with $310K profit at a 66.7% margin across 263 orders in 2024. While absolute revenue trails the annual target, the business demonstrates strong unit economics: profit margin exceeds target by 6.7 points, order volume is 2.2x plan, and average order value of $1,763 beats the $1,500 target by 18%.
A47: WHAT IS WORKING
...
